BEGIN:VCALENDAR
VERSION:2.0
PRODID:-//81.201.148.31//NONSGML kigkonsult.se iCalcreator 2.41.92//
CALSCALE:GREGORIAN
METHOD:PUBLISH
UID:63613537-3930-4436-a164-316136323166
X-WR-CALNAME:KOKOS IMPORT Theatertermine
X-WR-CALDESC:
X-WR-TIMEZONE:Europe/Berlin
BEGIN:VEVENT
UID:64636661-3136-4233-b639-303836663034
DTSTAMP:20260421T115956Z
DESCRIPTION:
DTSTART:20260306T130000
DTEND:20260306T180000
SUMMARY:Offene Kirche
END:VEVENT
END:VCALENDAR
