BEGIN:VCALENDAR
VERSION:2.0
PRODID:-//81.201.148.31//NONSGML kigkonsult.se iCalcreator 2.41.92//
CALSCALE:GREGORIAN
METHOD:PUBLISH
UID:64313937-3565-4336-b561-643633623338
X-WR-CALNAME:KOKOS IMPORT Theatertermine
X-WR-CALDESC:
X-WR-TIMEZONE:Europe/Berlin
BEGIN:VEVENT
UID:66366364-6362-4761-a434-333633643966
DTSTAMP:20260419T161815Z
DESCRIPTION:
DTSTART:20260317T130000
DTEND:20260317T180000
SUMMARY:Offene Kirche
END:VEVENT
END:VCALENDAR
