BEGIN:VCALENDAR
VERSION:2.0
PRODID:-//81.201.148.31//NONSGML kigkonsult.se iCalcreator 2.41.92//
CALSCALE:GREGORIAN
METHOD:PUBLISH
UID:39393733-3361-4537-a235-396238656163
X-WR-CALNAME:KOKOS IMPORT Theatertermine
X-WR-CALDESC:
X-WR-TIMEZONE:Europe/Berlin
BEGIN:VEVENT
UID:33383938-6638-4763-b234-363430393163
DTSTAMP:20260419T142156Z
DESCRIPTION:
DTSTART:20260320T130000
DTEND:20260320T180000
SUMMARY:Offene Kirche
END:VEVENT
END:VCALENDAR
