BEGIN:VCALENDAR
VERSION:2.0
PRODID:-//81.201.148.31//NONSGML kigkonsult.se iCalcreator 2.41.92//
CALSCALE:GREGORIAN
METHOD:PUBLISH
UID:32616261-3139-4139-a537-303762346134
X-WR-CALNAME:KOKOS IMPORT Theatertermine
X-WR-CALDESC:
X-WR-TIMEZONE:Europe/Berlin
BEGIN:VEVENT
UID:64623335-3338-4262-b063-666566613530
DTSTAMP:20260419T160518Z
DESCRIPTION:
DTSTART:20260324T130000
DTEND:20260324T180000
SUMMARY:Offene Kirche
END:VEVENT
END:VCALENDAR
