BEGIN:VCALENDAR
VERSION:2.0
PRODID:-//81.201.148.31//NONSGML kigkonsult.se iCalcreator 2.41.92//
CALSCALE:GREGORIAN
METHOD:PUBLISH
UID:65343134-3431-4639-b230-353635613634
X-WR-CALNAME:KOKOS IMPORT Theatertermine
X-WR-CALDESC:
X-WR-TIMEZONE:Europe/Berlin
BEGIN:VEVENT
UID:35383332-3937-4539-b139-356434663838
DTSTAMP:20260419T232031Z
DESCRIPTION:
DTSTART:20260325T130000
DTEND:20260325T180000
SUMMARY:Offene Kirche
END:VEVENT
END:VCALENDAR
