BEGIN:VCALENDAR
VERSION:2.0
PRODID:-//81.201.148.31//NONSGML kigkonsult.se iCalcreator 2.41.92//
CALSCALE:GREGORIAN
METHOD:PUBLISH
UID:62353766-6266-4935-b535-386630643432
X-WR-CALNAME:KOKOS IMPORT Theatertermine
X-WR-CALDESC:
X-WR-TIMEZONE:Europe/Berlin
BEGIN:VEVENT
UID:30643034-3335-4561-a163-383437643765
DTSTAMP:20260419T201517Z
DESCRIPTION:
DTSTART:20260330T130000
DTEND:20260330T180000
SUMMARY:Offene Kirche
END:VEVENT
END:VCALENDAR
