BEGIN:VCALENDAR
VERSION:2.0
PRODID:-//81.201.148.31//NONSGML kigkonsult.se iCalcreator 2.41.92//
CALSCALE:GREGORIAN
METHOD:PUBLISH
UID:64363662-6239-4532-b830-323061343839
X-WR-CALNAME:KOKOS IMPORT Theatertermine
X-WR-CALDESC:
X-WR-TIMEZONE:Europe/Berlin
BEGIN:VEVENT
UID:37316337-3535-4633-a238-333438333931
DTSTAMP:20260419T200835Z
DESCRIPTION:
DTSTART:20260331T130000
DTEND:20260331T180000
SUMMARY:Offene Kirche
END:VEVENT
END:VCALENDAR
