BEGIN:VCALENDAR
VERSION:2.0
PRODID:-//81.201.148.31//NONSGML kigkonsult.se iCalcreator 2.41.92//
CALSCALE:GREGORIAN
METHOD:PUBLISH
UID:31656330-6630-4761-a537-666239383062
X-WR-CALNAME:KOKOS IMPORT Theatertermine
X-WR-CALDESC:
X-WR-TIMEZONE:Europe/Berlin
BEGIN:VEVENT
UID:63393035-3134-4664-a231-323935343439
DTSTAMP:20260420T070902Z
DESCRIPTION:
DTSTART:20260401T130000
DTEND:20260401T180000
SUMMARY:Offene Kirche
END:VEVENT
END:VCALENDAR
