BEGIN:VCALENDAR
VERSION:2.0
PRODID:-//81.201.148.31//NONSGML kigkonsult.se iCalcreator 2.41.92//
CALSCALE:GREGORIAN
METHOD:PUBLISH
UID:65653065-3837-4335-b833-666166643430
X-WR-CALNAME:KOKOS IMPORT Theatertermine
X-WR-CALDESC:
X-WR-TIMEZONE:Europe/Berlin
BEGIN:VEVENT
UID:64626330-6162-4338-b332-626564653564
DTSTAMP:20260420T021927Z
DESCRIPTION:
DTSTART:20260406T123000
DTEND:20260406T180000
SUMMARY:Offene Kirche
END:VEVENT
END:VCALENDAR
