BEGIN:VCALENDAR
VERSION:2.0
PRODID:-//81.201.148.31//NONSGML kigkonsult.se iCalcreator 2.41.92//
CALSCALE:GREGORIAN
METHOD:PUBLISH
UID:35393965-3035-4161-a637-366364656163
X-WR-CALNAME:KOKOS IMPORT Theatertermine
X-WR-CALDESC:
X-WR-TIMEZONE:Europe/Berlin
BEGIN:VEVENT
UID:36353063-6236-4761-b361-336662646166
DTSTAMP:20260420T071107Z
DESCRIPTION:
DTSTART:20260407T130000
DTEND:20260407T180000
SUMMARY:Offene Kirche
END:VEVENT
END:VCALENDAR
