BEGIN:VCALENDAR
VERSION:2.0
PRODID:-//81.201.148.31//NONSGML kigkonsult.se iCalcreator 2.41.92//
CALSCALE:GREGORIAN
METHOD:PUBLISH
UID:62613061-3361-4431-b631-656138663761
X-WR-CALNAME:KOKOS IMPORT Theatertermine
X-WR-CALDESC:
X-WR-TIMEZONE:Europe/Berlin
BEGIN:VEVENT
UID:62383364-3337-4965-a661-373636646535
DTSTAMP:20260420T021825Z
DESCRIPTION:
DTSTART:20260408T130000
DTEND:20260408T180000
SUMMARY:Offene Kirche
END:VEVENT
END:VCALENDAR
