BEGIN:VCALENDAR
VERSION:2.0
PRODID:-//81.201.148.31//NONSGML kigkonsult.se iCalcreator 2.41.92//
CALSCALE:GREGORIAN
METHOD:PUBLISH
UID:64323334-3938-4530-a631-326236636135
X-WR-CALNAME:KOKOS IMPORT Theatertermine
X-WR-CALDESC:
X-WR-TIMEZONE:Europe/Berlin
BEGIN:VEVENT
UID:30653337-6632-4535-b239-396338613731
DTSTAMP:20260420T020709Z
DESCRIPTION:
DTSTART:20260410T130000
DTEND:20260410T180000
SUMMARY:Offene Kirche
END:VEVENT
END:VCALENDAR
