BEGIN:VCALENDAR
VERSION:2.0
PRODID:-//81.201.148.31//NONSGML kigkonsult.se iCalcreator 2.41.92//
CALSCALE:GREGORIAN
METHOD:PUBLISH
UID:61313030-3966-4566-a261-613565643333
X-WR-CALNAME:KOKOS IMPORT Theatertermine
X-WR-CALDESC:
X-WR-TIMEZONE:Europe/Berlin
BEGIN:VEVENT
UID:38326235-6664-4062-b165-306361613164
DTSTAMP:20260420T101022Z
DESCRIPTION:
DTSTART:20260414T130000
DTEND:20260414T180000
SUMMARY:Offene Kirche
END:VEVENT
END:VCALENDAR
