BEGIN:VCALENDAR
VERSION:2.0
PRODID:-//81.201.148.31//NONSGML kigkonsult.se iCalcreator 2.41.92//
CALSCALE:GREGORIAN
METHOD:PUBLISH
UID:62303037-6639-4533-b535-356362616336
X-WR-CALNAME:KOKOS IMPORT Theatertermine
X-WR-CALDESC:
X-WR-TIMEZONE:Europe/Berlin
BEGIN:VEVENT
UID:34616263-3833-4330-b864-376137313663
DTSTAMP:20260419T231023Z
DESCRIPTION:
DTSTART:20260421T130000
DTEND:20260421T180000
SUMMARY:Offene Kirche
END:VEVENT
END:VCALENDAR
