BEGIN:VCALENDAR
VERSION:2.0
PRODID:-//81.201.148.31//NONSGML kigkonsult.se iCalcreator 2.41.92//
CALSCALE:GREGORIAN
METHOD:PUBLISH
UID:37386565-3631-4139-a330-316266366536
X-WR-CALNAME:KOKOS IMPORT Theatertermine
X-WR-CALDESC:
X-WR-TIMEZONE:Europe/Berlin
BEGIN:VEVENT
UID:32613664-3064-4435-b138-316434333465
DTSTAMP:20260420T232651Z
DESCRIPTION:
DTSTART:20260422T130000
DTEND:20260422T180000
SUMMARY:Offene Kirche
END:VEVENT
END:VCALENDAR
