BEGIN:VCALENDAR
VERSION:2.0
PRODID:-//81.201.148.31//NONSGML kigkonsult.se iCalcreator 2.41.92//
CALSCALE:GREGORIAN
METHOD:PUBLISH
UID:37646366-6334-4061-a563-336335633237
X-WR-CALNAME:KOKOS IMPORT Theatertermine
X-WR-CALDESC:
X-WR-TIMEZONE:Europe/Berlin
BEGIN:VEVENT
UID:62356331-6230-4831-a432-386561643362
DTSTAMP:20260421T023620Z
DESCRIPTION:
DTSTART:20260424T130000
DTEND:20260424T180000
SUMMARY:Offene Kirche
END:VEVENT
END:VCALENDAR
