BEGIN:VCALENDAR
VERSION:2.0
PRODID:-//81.201.148.31//NONSGML kigkonsult.se iCalcreator 2.41.92//
CALSCALE:GREGORIAN
METHOD:PUBLISH
UID:64663462-3265-4135-a635-363337633138
X-WR-CALNAME:KOKOS IMPORT Theatertermine
X-WR-CALDESC:
X-WR-TIMEZONE:Europe/Berlin
BEGIN:VEVENT
UID:31343931-6133-4435-b938-336638393866
DTSTAMP:20260421T053758Z
DESCRIPTION:
DTSTART:20260429T130000
DTEND:20260429T180000
SUMMARY:Offene Kirche
END:VEVENT
END:VCALENDAR
