BEGIN:VCALENDAR
VERSION:2.0
PRODID:-//81.201.148.31//NONSGML kigkonsult.se iCalcreator 2.41.92//
CALSCALE:GREGORIAN
METHOD:PUBLISH
UID:36386130-3663-4638-b033-383138393065
X-WR-CALNAME:KOKOS IMPORT Theatertermine
X-WR-CALDESC:
X-WR-TIMEZONE:Europe/Berlin
BEGIN:VEVENT
UID:35393964-6365-4533-b130-633362353261
DTSTAMP:20260421T053644Z
DESCRIPTION:
DTSTART:20260501T130000
DTEND:20260501T180000
SUMMARY:Offene Kirche
END:VEVENT
END:VCALENDAR
