BEGIN:VCALENDAR
VERSION:2.0
PRODID:-//81.201.148.31//NONSGML kigkonsult.se iCalcreator 2.41.92//
CALSCALE:GREGORIAN
METHOD:PUBLISH
UID:64646133-3566-4033-b934-363936303162
X-WR-CALNAME:KOKOS IMPORT Theatertermine
X-WR-CALDESC:
X-WR-TIMEZONE:Europe/Berlin
BEGIN:VEVENT
UID:30383235-6265-4630-a162-616431613132
DTSTAMP:20260421T055131Z
DESCRIPTION:
DTSTART:20260504T130000
DTEND:20260504T180000
SUMMARY:Offene Kirche
END:VEVENT
END:VCALENDAR
