BEGIN:VCALENDAR
VERSION:2.0
PRODID:-//81.201.148.31//NONSGML kigkonsult.se iCalcreator 2.41.92//
CALSCALE:GREGORIAN
METHOD:PUBLISH
UID:35363131-3065-4261-b961-366330333336
X-WR-CALNAME:KOKOS IMPORT Theatertermine
X-WR-CALDESC:
X-WR-TIMEZONE:Europe/Berlin
BEGIN:VEVENT
UID:37366263-6136-4533-b162-343830636662
DTSTAMP:20260421T085009Z
DESCRIPTION:
DTSTART:20260505T130000
DTEND:20260505T150000
SUMMARY:Offene Kirche
END:VEVENT
END:VCALENDAR
