BEGIN:VCALENDAR
VERSION:2.0
PRODID:-//81.201.148.31//NONSGML kigkonsult.se iCalcreator 2.41.92//
CALSCALE:GREGORIAN
METHOD:PUBLISH
UID:65616361-3061-4735-b461-663633343964
X-WR-CALNAME:KOKOS IMPORT Theatertermine
X-WR-CALDESC:
X-WR-TIMEZONE:Europe/Berlin
BEGIN:VEVENT
UID:62623633-3862-4537-b334-366365306637
DTSTAMP:20260421T091428Z
DESCRIPTION:
DTSTART:20260506T130000
DTEND:20260506T180000
SUMMARY:Offene Kirche
END:VEVENT
END:VCALENDAR
