BEGIN:VCALENDAR
VERSION:2.0
PRODID:-//81.201.148.31//NONSGML kigkonsult.se iCalcreator 2.41.92//
CALSCALE:GREGORIAN
METHOD:PUBLISH
UID:32343165-6332-4530-b735-333135623537
X-WR-CALNAME:KOKOS IMPORT Theatertermine
X-WR-CALDESC:
X-WR-TIMEZONE:Europe/Berlin
BEGIN:VEVENT
UID:31326234-6534-4665-a639-633739323034
DTSTAMP:20260421T100202Z
DESCRIPTION:
DTSTART:20260508T130000
DTEND:20260508T180000
SUMMARY:Offene Kirche
END:VEVENT
END:VCALENDAR
