BEGIN:VCALENDAR
VERSION:2.0
PRODID:-//81.201.148.31//NONSGML kigkonsult.se iCalcreator 2.41.92//
CALSCALE:GREGORIAN
METHOD:PUBLISH
UID:38613534-3139-4762-a338-343835313935
X-WR-CALNAME:KOKOS IMPORT Theatertermine
X-WR-CALDESC:
X-WR-TIMEZONE:Europe/Berlin
BEGIN:VEVENT
UID:61396136-3661-4239-a666-313164313930
DTSTAMP:20260422T000318Z
DESCRIPTION:
DTSTART:20260511T130000
DTEND:20260511T180000
SUMMARY:Offene Kirche
END:VEVENT
END:VCALENDAR
