BEGIN:VCALENDAR
VERSION:2.0
PRODID:-//81.201.148.31//NONSGML kigkonsult.se iCalcreator 2.41.92//
CALSCALE:GREGORIAN
METHOD:PUBLISH
UID:37313134-3065-4266-b337-636139383033
X-WR-CALNAME:KOKOS IMPORT Theatertermine
X-WR-CALDESC:
X-WR-TIMEZONE:Europe/Berlin
BEGIN:VEVENT
UID:61393535-6565-4562-a164-633166633065
DTSTAMP:20260422T044929Z
DESCRIPTION:
DTSTART:20260513T130000
DTEND:20260513T180000
SUMMARY:Offene Kirche
END:VEVENT
END:VCALENDAR
