BEGIN:VCALENDAR
VERSION:2.0
PRODID:-//81.201.148.31//NONSGML kigkonsult.se iCalcreator 2.41.92//
CALSCALE:GREGORIAN
METHOD:PUBLISH
UID:64373864-3632-4163-b063-613262353833
X-WR-CALNAME:KOKOS IMPORT Theatertermine
X-WR-CALDESC:
X-WR-TIMEZONE:Europe/Berlin
BEGIN:VEVENT
UID:39306533-3735-4731-a437-663961633034
DTSTAMP:20260422T080402Z
DESCRIPTION:
DTSTART:20260515T130000
DTEND:20260515T180000
SUMMARY:Offene Kirche
END:VEVENT
END:VCALENDAR
