BEGIN:VCALENDAR
VERSION:2.0
PRODID:-//81.201.148.31//NONSGML kigkonsult.se iCalcreator 2.41.92//
CALSCALE:GREGORIAN
METHOD:PUBLISH
UID:66623464-6666-4263-a663-346539653266
X-WR-CALNAME:KOKOS IMPORT Theatertermine
X-WR-CALDESC:
X-WR-TIMEZONE:Europe/Berlin
BEGIN:VEVENT
UID:63373064-3263-4233-b936-366466383364
DTSTAMP:20260423T093459Z
DESCRIPTION:
DTSTART:20261030T130000
DTEND:20261030T180000
SUMMARY:Offene Kirche
END:VEVENT
END:VCALENDAR
