BEGIN:VCALENDAR
VERSION:2.0
PRODID:-//81.201.148.31//NONSGML kigkonsult.se iCalcreator 2.41.92//
CALSCALE:GREGORIAN
METHOD:PUBLISH
UID:61393332-3266-4266-b864-316533626465
X-WR-CALNAME:KOKOS IMPORT Theatertermine
X-WR-CALDESC:
X-WR-TIMEZONE:Europe/Berlin
BEGIN:VEVENT
UID:63396364-3634-4935-b232-336436336665
DTSTAMP:20260423T104617Z
DESCRIPTION:
DTSTART:20261102T130000
DTEND:20261102T180000
SUMMARY:Offene Kirche
END:VEVENT
END:VCALENDAR
