BEGIN:VCALENDAR
VERSION:2.0
PRODID:-//81.201.148.31//NONSGML kigkonsult.se iCalcreator 2.41.92//
CALSCALE:GREGORIAN
METHOD:PUBLISH
UID:61616535-3130-4035-b634-666262316361
X-WR-CALNAME:KOKOS IMPORT Theatertermine
X-WR-CALDESC:
X-WR-TIMEZONE:Europe/Berlin
BEGIN:VEVENT
UID:32363366-3839-4537-b464-643634363033
DTSTAMP:20260423T093459Z
DESCRIPTION:
DTSTART:20261104T130000
DTEND:20261104T180000
SUMMARY:Offene Kirche
END:VEVENT
END:VCALENDAR
