BEGIN:VCALENDAR
VERSION:2.0
PRODID:-//81.201.148.31//NONSGML kigkonsult.se iCalcreator 2.41.92//
CALSCALE:GREGORIAN
METHOD:PUBLISH
UID:31346331-3932-4133-a632-323630653133
X-WR-CALNAME:KOKOS IMPORT Theatertermine
X-WR-CALDESC:
X-WR-TIMEZONE:Europe/Berlin
BEGIN:VEVENT
UID:61646364-3831-4564-b636-666366333663
DTSTAMP:20260423T104434Z
DESCRIPTION:
DTSTART:20261109T130000
DTEND:20261109T180000
SUMMARY:Offene Kirche
END:VEVENT
END:VCALENDAR
