BEGIN:VCALENDAR
VERSION:2.0
PRODID:-//81.201.148.31//NONSGML kigkonsult.se iCalcreator 2.41.92//
CALSCALE:GREGORIAN
METHOD:PUBLISH
UID:33303063-3930-4364-a336-396439643464
X-WR-CALNAME:KOKOS IMPORT Theatertermine
X-WR-CALDESC:
X-WR-TIMEZONE:Europe/Berlin
BEGIN:VEVENT
UID:32656138-3566-4461-a664-636263343964
DTSTAMP:20260423T093245Z
DESCRIPTION:
DTSTART:20261110T130000
DTEND:20261110T180000
SUMMARY:Offene Kirche
END:VEVENT
END:VCALENDAR
