BEGIN:VCALENDAR
VERSION:2.0
PRODID:-//81.201.148.31//NONSGML kigkonsult.se iCalcreator 2.41.92//
CALSCALE:GREGORIAN
METHOD:PUBLISH
UID:63343833-3536-4966-b765-336664613135
X-WR-CALNAME:KOKOS IMPORT Theatertermine
X-WR-CALDESC:
X-WR-TIMEZONE:Europe/Berlin
BEGIN:VEVENT
UID:39383964-3236-4935-b361-383739643462
DTSTAMP:20260423T093350Z
DESCRIPTION:
DTSTART:20261111T130000
DTEND:20261111T180000
SUMMARY:Offene Kirche
END:VEVENT
END:VCALENDAR
