BEGIN:VCALENDAR
VERSION:2.0
PRODID:-//81.201.148.31//NONSGML kigkonsult.se iCalcreator 2.41.92//
CALSCALE:GREGORIAN
METHOD:PUBLISH
UID:65366531-6538-4162-a236-373333643564
X-WR-CALNAME:KOKOS IMPORT Theatertermine
X-WR-CALDESC:
X-WR-TIMEZONE:Europe/Berlin
BEGIN:VEVENT
UID:62633332-6463-4130-a632-386562653836
DTSTAMP:20260423T104618Z
DESCRIPTION:
DTSTART:20261113T130000
DTEND:20261113T150000
SUMMARY:Offene Kirche
END:VEVENT
END:VCALENDAR
