BEGIN:VCALENDAR
VERSION:2.0
PRODID:-//81.201.148.31//NONSGML kigkonsult.se iCalcreator 2.41.92//
CALSCALE:GREGORIAN
METHOD:PUBLISH
UID:30623136-3535-4634-a438-396634636462
X-WR-CALNAME:KOKOS IMPORT Theatertermine
X-WR-CALDESC:
X-WR-TIMEZONE:Europe/Berlin
BEGIN:VEVENT
UID:66666434-3639-4238-a233-386666333132
DTSTAMP:20260423T093334Z
DESCRIPTION:
DTSTART:20260110T130000
DTEND:20260110T183000
SUMMARY:Offene Kirche
END:VEVENT
END:VCALENDAR
