BEGIN:VCALENDAR
VERSION:2.0
PRODID:-//81.201.148.31//NONSGML kigkonsult.se iCalcreator 2.41.92//
CALSCALE:GREGORIAN
METHOD:PUBLISH
UID:34353333-6135-4636-b465-363039666261
X-WR-CALNAME:KOKOS IMPORT Theatertermine
X-WR-CALDESC:
X-WR-TIMEZONE:Europe/Berlin
BEGIN:VEVENT
UID:63323466-3733-4430-a133-356437643337
DTSTAMP:20260419T161837Z
DESCRIPTION:
DTSTART:20260314T130000
DTEND:20260314T183000
SUMMARY:Offene Kirche
END:VEVENT
END:VCALENDAR
