BEGIN:VCALENDAR
VERSION:2.0
PRODID:-//81.201.148.31//NONSGML kigkonsult.se iCalcreator 2.41.92//
CALSCALE:GREGORIAN
METHOD:PUBLISH
UID:65376335-6134-4635-a466-646138616561
X-WR-CALNAME:KOKOS IMPORT Theatertermine
X-WR-CALDESC:
X-WR-TIMEZONE:Europe/Berlin
BEGIN:VEVENT
UID:32626234-3965-4866-b162-303262386237
DTSTAMP:20260419T142341Z
DESCRIPTION:
DTSTART:20260321T130000
DTEND:20260321T150000
SUMMARY:Offene Kirche
END:VEVENT
END:VCALENDAR
