BEGIN:VCALENDAR
VERSION:2.0
PRODID:-//81.201.148.31//NONSGML kigkonsult.se iCalcreator 2.41.92//
CALSCALE:GREGORIAN
METHOD:PUBLISH
UID:33303232-3665-4337-b439-326164616165
X-WR-CALNAME:KOKOS IMPORT Theatertermine
X-WR-CALDESC:
X-WR-TIMEZONE:Europe/Berlin
BEGIN:VEVENT
UID:65333761-3964-4639-b330-393361353234
DTSTAMP:20260419T181147Z
DESCRIPTION:
DTSTART:20260326T130000
DTEND:20260326T183000
SUMMARY:Offene Kirche
END:VEVENT
END:VCALENDAR
