BEGIN:VCALENDAR
VERSION:2.0
PRODID:-//81.201.148.31//NONSGML kigkonsult.se iCalcreator 2.41.92//
CALSCALE:GREGORIAN
METHOD:PUBLISH
UID:66653332-6236-4564-b865-643533346165
X-WR-CALNAME:KOKOS IMPORT Theatertermine
X-WR-CALDESC:
X-WR-TIMEZONE:Europe/Berlin
BEGIN:VEVENT
UID:64613664-3439-4962-a237-386136316563
DTSTAMP:20260420T041628Z
DESCRIPTION:
DTSTART:20260402T130000
DTEND:20260402T160000
SUMMARY:Offene Kirche
END:VEVENT
END:VCALENDAR
