BEGIN:VCALENDAR
VERSION:2.0
PRODID:-//81.201.148.31//NONSGML kigkonsult.se iCalcreator 2.41.92//
CALSCALE:GREGORIAN
METHOD:PUBLISH
UID:35376330-3230-4361-b766-393264353133
X-WR-CALNAME:KOKOS IMPORT Theatertermine
X-WR-CALDESC:
X-WR-TIMEZONE:Europe/Berlin
BEGIN:VEVENT
UID:64343336-3563-4136-a631-623735616632
DTSTAMP:20260420T071317Z
DESCRIPTION:
DTSTART:20260409T130000
DTEND:20260409T183000
SUMMARY:Offene Kirche
END:VEVENT
END:VCALENDAR
