BEGIN:VCALENDAR
VERSION:2.0
PRODID:-//81.201.148.31//NONSGML kigkonsult.se iCalcreator 2.41.92//
CALSCALE:GREGORIAN
METHOD:PUBLISH
UID:37626338-3438-4031-a436-373161363937
X-WR-CALNAME:KOKOS IMPORT Theatertermine
X-WR-CALDESC:
X-WR-TIMEZONE:Europe/Berlin
BEGIN:VEVENT
UID:65333465-3564-4737-b432-376432333337
DTSTAMP:20260421T053726Z
DESCRIPTION:
DTSTART:20260411T130000
DTEND:20260411T183000
SUMMARY:Offene Kirche
END:VEVENT
END:VCALENDAR
