BEGIN:VCALENDAR
VERSION:2.0
PRODID:-//81.201.148.31//NONSGML kigkonsult.se iCalcreator 2.41.92//
CALSCALE:GREGORIAN
METHOD:PUBLISH
UID:61313461-3430-4631-b332-613631383362
X-WR-CALNAME:KOKOS IMPORT Theatertermine
X-WR-CALDESC:
X-WR-TIMEZONE:Europe/Berlin
BEGIN:VEVENT
UID:62613762-3133-4337-b966-313662643339
DTSTAMP:20260420T095903Z
DESCRIPTION:
DTSTART:20260416T130000
DTEND:20260416T183000
SUMMARY:Offene Kirche
END:VEVENT
END:VCALENDAR
