BEGIN:VCALENDAR
VERSION:2.0
PRODID:-//81.201.148.31//NONSGML kigkonsult.se iCalcreator 2.41.92//
CALSCALE:GREGORIAN
METHOD:PUBLISH
UID:33356634-6465-4364-a238-613737663734
X-WR-CALNAME:KOKOS IMPORT Theatertermine
X-WR-CALDESC:
X-WR-TIMEZONE:Europe/Berlin
BEGIN:VEVENT
UID:61646666-6265-4638-b238-316330323339
DTSTAMP:20260421T053848Z
DESCRIPTION:
DTSTART:20260430T130000
DTEND:20260430T183000
SUMMARY:Offene Kirche
END:VEVENT
END:VCALENDAR
