BEGIN:VCALENDAR
VERSION:2.0
PRODID:-//81.201.148.31//NONSGML kigkonsult.se iCalcreator 2.41.92//
CALSCALE:GREGORIAN
METHOD:PUBLISH
UID:35633664-3262-4666-b663-346361303932
X-WR-CALNAME:KOKOS IMPORT Theatertermine
X-WR-CALDESC:
X-WR-TIMEZONE:Europe/Berlin
BEGIN:VEVENT
UID:31333931-3265-4039-b835-666332333634
DTSTAMP:20260421T104101Z
DESCRIPTION:
DTSTART:20260507T130000
DTEND:20260507T183000
SUMMARY:Offene Kirche
END:VEVENT
END:VCALENDAR
