BEGIN:VCALENDAR
VERSION:2.0
PRODID:-//81.201.148.31//NONSGML kigkonsult.se iCalcreator 2.41.92//
CALSCALE:GREGORIAN
METHOD:PUBLISH
UID:36343263-6466-4132-b962-353831656537
X-WR-CALNAME:KOKOS IMPORT Theatertermine
X-WR-CALDESC:
X-WR-TIMEZONE:Europe/Berlin
BEGIN:VEVENT
UID:61613639-3031-4164-b463-373238653431
DTSTAMP:20260421T104133Z
DESCRIPTION:
DTSTART:20260509T130000
DTEND:20260509T163000
SUMMARY:Offene Kirche
END:VEVENT
END:VCALENDAR
