BEGIN:VCALENDAR
VERSION:2.0
PRODID:-//81.201.148.31//NONSGML kigkonsult.se iCalcreator 2.41.92//
CALSCALE:GREGORIAN
METHOD:PUBLISH
UID:39353061-6365-4436-b736-653764313266
X-WR-CALNAME:KOKOS IMPORT Theatertermine
X-WR-CALDESC:
X-WR-TIMEZONE:Europe/Berlin
BEGIN:VEVENT
UID:31646562-6565-4562-b566-653539646232
DTSTAMP:20260422T062827Z
DESCRIPTION:
DTSTART:20260514T130000
DTEND:20260514T183000
SUMMARY:Offene Kirche
END:VEVENT
END:VCALENDAR
