BEGIN:VCALENDAR
VERSION:2.0
PRODID:-//81.201.148.31//NONSGML kigkonsult.se iCalcreator 2.41.92//
CALSCALE:GREGORIAN
METHOD:PUBLISH
UID:35636139-6463-4132-b531-386437336563
X-WR-CALNAME:KOKOS IMPORT Theatertermine
X-WR-CALDESC:
X-WR-TIMEZONE:Europe/Berlin
BEGIN:VEVENT
UID:34656631-3335-4933-a263-656538393637
DTSTAMP:20260422T063300Z
DESCRIPTION:
DTSTART:20260516T140000
DTEND:20260516T183000
SUMMARY:Offene Kirche
END:VEVENT
END:VCALENDAR
