BEGIN:VCALENDAR
VERSION:2.0
PRODID:-//81.201.148.31//NONSGML kigkonsult.se iCalcreator 2.41.92//
CALSCALE:GREGORIAN
METHOD:PUBLISH
UID:61613534-6537-4464-b563-333332396266
X-WR-CALNAME:KOKOS IMPORT Theatertermine
X-WR-CALDESC:
X-WR-TIMEZONE:Europe/Berlin
BEGIN:VEVENT
UID:63623235-3433-4139-b965-303063616165
DTSTAMP:20260423T093245Z
DESCRIPTION:
DTSTART:20261029T130000
DTEND:20261029T183000
SUMMARY:Offene Kirche
END:VEVENT
END:VCALENDAR
