BEGIN:VCALENDAR
VERSION:2.0
PRODID:-//81.201.148.31//NONSGML kigkonsult.se iCalcreator 2.41.92//
CALSCALE:GREGORIAN
METHOD:PUBLISH
UID:62386162-3330-4366-b231-303661306135
X-WR-CALNAME:KOKOS IMPORT Theatertermine
X-WR-CALDESC:
X-WR-TIMEZONE:Europe/Berlin
BEGIN:VEVENT
UID:31366438-3762-4337-b965-653361363832
DTSTAMP:20260423T093333Z
DESCRIPTION:
DTSTART:20261031T130000
DTEND:20261031T183000
SUMMARY:Offene Kirche
END:VEVENT
END:VCALENDAR
