BEGIN:VCALENDAR
VERSION:2.0
PRODID:-//81.201.148.31//NONSGML kigkonsult.se iCalcreator 2.41.92//
CALSCALE:GREGORIAN
METHOD:PUBLISH
UID:64356562-3663-4162-b966-316663663339
X-WR-CALNAME:KOKOS IMPORT Theatertermine
X-WR-CALDESC:
X-WR-TIMEZONE:Europe/Berlin
BEGIN:VEVENT
UID:30316366-6662-4563-b439-333331636662
DTSTAMP:20260423T093333Z
DESCRIPTION:
DTSTART:20261107T130000
DTEND:20261107T170000
SUMMARY:Offene Kirche
END:VEVENT
END:VCALENDAR
