BEGIN:VCALENDAR
VERSION:2.0
PRODID:-//81.201.148.31//NONSGML kigkonsult.se iCalcreator 2.41.92//
CALSCALE:GREGORIAN
METHOD:PUBLISH
UID:65373363-3966-4934-b566-366535306139
X-WR-CALNAME:KOKOS IMPORT Theatertermine
X-WR-CALDESC:
X-WR-TIMEZONE:Europe/Berlin
BEGIN:VEVENT
UID:39326165-3332-4330-a135-646536336236
DTSTAMP:20260423T093350Z
DESCRIPTION:
DTSTART:20261112T130000
DTEND:20261112T183000
SUMMARY:Offene Kirche
END:VEVENT
END:VCALENDAR
