BEGIN:VCALENDAR
VERSION:2.0
PRODID:-//81.201.148.31//NONSGML kigkonsult.se iCalcreator 2.41.92//
CALSCALE:GREGORIAN
METHOD:PUBLISH
UID:34333164-3239-4635-b235-336538653338
X-WR-CALNAME:KOKOS IMPORT Theatertermine
X-WR-CALDESC:
X-WR-TIMEZONE:Europe/Berlin
BEGIN:VEVENT
UID:30666431-6462-4832-b731-323430396566
DTSTAMP:20260423T093541Z
DESCRIPTION:
DTSTART:20260104T123000
DTEND:20260104T170000
SUMMARY:Offene Kirche
END:VEVENT
END:VCALENDAR
